BEGIN:VCALENDAR
VERSION:2.0
PRODID:-//Americas Boating Club of Southport - ECPv6.15.20//NONSGML v1.0//EN
CALSCALE:GREGORIAN
METHOD:PUBLISH
X-WR-CALNAME:Americas Boating Club of Southport
X-ORIGINAL-URL:https://southportboatingclub.com
X-WR-CALDESC:Events for Americas Boating Club of Southport
REFRESH-INTERVAL;VALUE=DURATION:PT1H
X-Robots-Tag:noindex
X-PUBLISHED-TTL:PT1H
BEGIN:VTIMEZONE
TZID:UTC
BEGIN:STANDARD
TZOFFSETFROM:+0000
TZOFFSETTO:+0000
TZNAME:UTC
DTSTART:20230101T000000
END:STANDARD
END:VTIMEZONE
BEGIN:VEVENT
DTSTART;TZID=UTC:20241026T080000
DTEND;TZID=UTC:20241026T120000
DTSTAMP:20260425T000410
CREATED:20241010T115714Z
LAST-MODIFIED:20241010T115750Z
UID:562-1729929600-1729944000@southportboatingclub.com
SUMMARY:Tablet/Smartphone Navigation – Get the Most out of Your IOS or Android Device
DESCRIPTION:Americas Boatng Club of Southport will present an overview of two of the more\npopular navigation apps\, Navionics and Aqua Maps. We will go over how to\nconfigure your display\, build and share routes\, save tracks\, display weather\nforecasts and more.\nBring your tablet or smartphone and be prepared to follow along.\nThe seminar will be presented on Tuesday\, October 26\, 2024 at the Cape Fear\nRegional Airport\, 4015 Airport Road\, Southport\, NC. Doors open at 8:30 AM.\nPresentation to begin at 9:00 AM. Cost will be $20.00. which includes a full copy of\npresentation material. Reservations will be necessary. Contact John Hall at\nhall17768@gmail.com for reservations.
URL:https://southportboatingclub.com/event/tablet-smartphone-navigation-get-the-most-out-of-your-ios-or-android-device/
LOCATION:Cape Fear Jetport\, 4015 Airport Rd\, Southport\, NC\, 28461\, United States
END:VEVENT
END:VCALENDAR