BEGIN:VCALENDAR
VERSION:2.0
PRODID:-//Americas Boating Club of Southport - ECPv6.15.20//NONSGML v1.0//EN
CALSCALE:GREGORIAN
METHOD:PUBLISH
X-WR-CALNAME:Americas Boating Club of Southport
X-ORIGINAL-URL:https://southportboatingclub.com
X-WR-CALDESC:Events for Americas Boating Club of Southport
REFRESH-INTERVAL;VALUE=DURATION:PT1H
X-Robots-Tag:noindex
X-PUBLISHED-TTL:PT1H
BEGIN:VTIMEZONE
TZID:UTC
BEGIN:STANDARD
TZOFFSETFROM:+0000
TZOFFSETTO:+0000
TZNAME:UTC
DTSTART:20230101T000000
END:STANDARD
END:VTIMEZONE
BEGIN:VEVENT
DTSTART;TZID=UTC:20240313T173000
DTEND;TZID=UTC:20240323T200000
DTSTAMP:20260425T130107
CREATED:20240303T200817Z
LAST-MODIFIED:20240303T200817Z
UID:460-1710351000-1711224000@southportboatingclub.com
SUMMARY:General Membership Meeting
DESCRIPTION:Date and Time – Wednesday\, March 13\, at 5:30 PM for Social Time & Dinner at 6:00 \nMenu: (BYOB) – Our favorite fish and delicious chicken with slaw\, potato salad\, & hush puppies By Robert Wallace\, Catering \nAlso: Baked to Order Burney’s Cake \nWhere: Cape Fear Regional Airport (SUT) – 2nd Floor; 4015 Airport Road; Oak Island\, NC 28465 \nCost:  $15 each – BYOB \nSpeaker: Dr. Thomas B. Kelso; Orthopedic Surgeon & Author – 3-Books with the 4th in process! \nSign-up – Please email MaryAnn Bonifant by 9:00 PM on Sunday\, March 10\, – (bonifantma@gmail.com OR text to (301) 399-9963) \nNecessary to have sufficient food and service! \nAlso\, if you book and don’t show\, we pay anyway!
URL:https://southportboatingclub.com/event/general-membership-meeting-3/
LOCATION:Cape Fear Jetport\, 4015 Airport Rd\, Southport\, NC\, 28461\, United States
END:VEVENT
BEGIN:VEVENT
DTSTART;TZID=UTC:20240316T170000
DTEND;TZID=UTC:20240316T170000
DTSTAMP:20260425T130107
CREATED:20240303T195709Z
LAST-MODIFIED:20240303T195709Z
UID:456-1710608400-1710608400@southportboatingclub.com
SUMMARY:How To Use a Nautical Chart Seminar
DESCRIPTION:Whatever your boating activity includes\, knowing how to utilize nautical charts is essential to safe boating.  Charts include necessary information including bottom contours\, hazards and aids to navigation to help you travel safely.  There will also be discussion of electronic charts and GPS options.  The cost of this 3 hour seminar will be $35 ($25 for Americas Boating Club members).The seminar will be held at the Southport Regional Jetport\, 4015 Airport Rd. (2nd floor) Southport\, NC. Registration will start at 8:30 AM with the seminar starting at 9:00 AM. Reservations will be necessary. Contact Max Sykes at hmsykes@atmc.net . \n 
URL:https://southportboatingclub.com/event/how-to-use-a-nautical-chart-seminar/
LOCATION:Cape Fear Jetport\, 4015 Airport Rd\, Southport\, NC\, 28461\, United States
END:VEVENT
END:VCALENDAR