BEGIN:VCALENDAR
VERSION:2.0
PRODID:-//Americas Boating Club of Southport - ECPv6.15.20//NONSGML v1.0//EN
CALSCALE:GREGORIAN
METHOD:PUBLISH
X-ORIGINAL-URL:https://southportboatingclub.com
X-WR-CALDESC:Events for Americas Boating Club of Southport
REFRESH-INTERVAL;VALUE=DURATION:PT1H
X-Robots-Tag:noindex
X-PUBLISHED-TTL:PT1H
BEGIN:VTIMEZONE
TZID:UTC
BEGIN:STANDARD
TZOFFSETFROM:+0000
TZOFFSETTO:+0000
TZNAME:UTC
DTSTART:20230101T000000
END:STANDARD
END:VTIMEZONE
BEGIN:VEVENT
DTSTART;TZID=UTC:20240120T083000
DTEND;TZID=UTC:20240120T170000
DTSTAMP:20260425T163944
CREATED:20230430T183405Z
LAST-MODIFIED:20231204T131242Z
UID:406-1705739400-1705770000@southportboatingclub.com
SUMMARY:America's Boating Course
DESCRIPTION:Learn the fundamentals of safe boat handling. This course is for boaters of all types – Sail\, Power\, and Personal Watercraft. Successful completion meets North Carolina requirements for certification to operate a power boat for anyone under the age of 26 and may provide a discount on boat insurance. \nTopics include boating terminology\, VHF radio\, Navigation rules\, Navigation aids\, NC regulations\, charts\, and electronic navigation. \nThe course will be taught on Saturday\, January 20 at the Cape Fear Jetport. Registration will begin at 8:30 am. Instruction starts at 9:00\, concluding at 5:00PM. The cost of the 8 hour course will be $60. This includes lunch\, a 260 page textbook that will be a good reference. Couples sharing a book will pay $35 for the second person. \nReservations will be necessary. You can register or get further information by contacting Max Sykes at hmsykes@atmc.net.
URL:https://southportboatingclub.com/event/americas-boating-course/
LOCATION:Cape Fear Jetport\, 4015 Airport Rd\, Southport\, NC\, 28461\, United States
END:VEVENT
END:VCALENDAR