BEGIN:VCALENDAR
VERSION:2.0
PRODID:-//Americas Boating Club of Southport - ECPv6.15.20//NONSGML v1.0//EN
CALSCALE:GREGORIAN
METHOD:PUBLISH
X-ORIGINAL-URL:https://southportboatingclub.com
X-WR-CALDESC:Events for Americas Boating Club of Southport
REFRESH-INTERVAL;VALUE=DURATION:PT1H
X-Robots-Tag:noindex
X-PUBLISHED-TTL:PT1H
BEGIN:VTIMEZONE
TZID:UTC
BEGIN:STANDARD
TZOFFSETFROM:+0000
TZOFFSETTO:+0000
TZNAME:UTC
DTSTART:20220101T000000
END:STANDARD
END:VTIMEZONE
BEGIN:VEVENT
DTSTART;TZID=UTC:20231011T173000
DTEND;TZID=UTC:20231011T193000
DTSTAMP:20260425T215008
CREATED:20230527T071321Z
LAST-MODIFIED:20231003T201503Z
UID:418-1697045400-1697052600@southportboatingclub.com
SUMMARY:General Membership Meeting
DESCRIPTION:Menu: OktoberFest – Brats\, Peppers\, Onions\, Sauerkraut\, Purple Cabbage\, Good Rolls\, Brown Mustard – By Robert Wallace\, Catering\, BYOB \nCost:  $14 \nSpeaker: John Moseley\, Manager\, NC Maritime Museum at Southport \nSign-Up – Please email MaryAnn Bonifant by 9:00 PM on Sunday\, October 8th \, – (bonifantma@gmail.com OR text to 301-399-9963).  Necessary to have sufficient food and service!
URL:https://southportboatingclub.com/event/general-membership-meeting-2/
LOCATION:Waterway Park\, 2713 St James Dr SE\, St James\, NC\, 28461\, United States
END:VEVENT
END:VCALENDAR