BEGIN:VCALENDAR
VERSION:2.0
PRODID:-//Americas Boating Club of Southport - ECPv6.15.20//NONSGML v1.0//EN
CALSCALE:GREGORIAN
METHOD:PUBLISH
X-WR-CALNAME:Americas Boating Club of Southport
X-ORIGINAL-URL:https://southportboatingclub.com
X-WR-CALDESC:Events for Americas Boating Club of Southport
REFRESH-INTERVAL;VALUE=DURATION:PT1H
X-Robots-Tag:noindex
X-PUBLISHED-TTL:PT1H
BEGIN:VTIMEZONE
TZID:UTC
BEGIN:STANDARD
TZOFFSETFROM:+0000
TZOFFSETTO:+0000
TZNAME:UTC
DTSTART:20220101T000000
END:STANDARD
END:VTIMEZONE
BEGIN:VEVENT
DTSTART;TZID=UTC:20230720T110000
DTEND;TZID=UTC:20230720T140000
DTSTAMP:20260426T031454
CREATED:20230701T202406Z
LAST-MODIFIED:20230701T202406Z
UID:426-1689850800-1689861600@southportboatingclub.com
SUMMARY:Cruise to Inlet View Bar and Grill
DESCRIPTION:Time: Arrive at 11:00 so we can beat the crowds\nLocation: Just off the ICW near the Shallotte inlet\, 12.7nm from St James Marina\nPlease let Ron Smith know by email if you plan on attending.\n\n 
URL:https://southportboatingclub.com/event/cruise-to-inlet-view-bar-and-grill/
LOCATION:Inlet View Bar and Grill\, 1800 Village Point Rd SW\, Shallotte\, NC\, United States
ORGANIZER;CN="Ron Smith":MAILTO:rns1014@gmail.com
END:VEVENT
END:VCALENDAR