BEGIN:VCALENDAR
VERSION:2.0
PRODID:-//Americas Boating Club of Southport - ECPv6.15.20//NONSGML v1.0//EN
CALSCALE:GREGORIAN
METHOD:PUBLISH
X-ORIGINAL-URL:https://southportboatingclub.com
X-WR-CALDESC:Events for Americas Boating Club of Southport
REFRESH-INTERVAL;VALUE=DURATION:PT1H
X-Robots-Tag:noindex
X-PUBLISHED-TTL:PT1H
BEGIN:VTIMEZONE
TZID:UTC
BEGIN:STANDARD
TZOFFSETFROM:+0000
TZOFFSETTO:+0000
TZNAME:UTC
DTSTART:20240101T000000
END:STANDARD
END:VTIMEZONE
BEGIN:VEVENT
DTSTART;TZID=UTC:20250219T080000
DTEND;TZID=UTC:20250219T170000
DTSTAMP:20260424T182128
CREATED:20250219T233737Z
LAST-MODIFIED:20250220T175642Z
UID:577-1739952000-1739984400@southportboatingclub.com
SUMMARY:Partner in Command
DESCRIPTION:Check back shortley for more information!\n\nAre you a passenger or crew member who would like to better understand the operation of a boat?Are you prepared to takeover if your captain becomes incapacitated ?\nLearn the essential skills needed to assist the skipper in safely operating a recreational boat and responding to emergency situations.\nThis seminar introduces boating activities including an understanding of anchoring\, docking\, navigation and much more. You’ll discover how to prepare for bad weather\, provide first aid\, handle on-board emergencies\, and be a self-assured first mate onboard.\nWhat’s included?\n\nCommunications\, including VHF marine radio\nCalling for help\nSignaling equipment\nFirst aid\nStarting and running the engine\nTool kits
URL:https://southportboatingclub.com/event/partner-in-command/
LOCATION:NC
END:VEVENT
END:VCALENDAR