BEGIN:VCALENDAR
VERSION:2.0
PRODID:-//Americas Boating Club of Southport - ECPv6.15.20//NONSGML v1.0//EN
CALSCALE:GREGORIAN
METHOD:PUBLISH
X-WR-CALNAME:Americas Boating Club of Southport
X-ORIGINAL-URL:https://southportboatingclub.com
X-WR-CALDESC:Events for Americas Boating Club of Southport
REFRESH-INTERVAL;VALUE=DURATION:PT1H
X-Robots-Tag:noindex
X-PUBLISHED-TTL:PT1H
BEGIN:VTIMEZONE
TZID:UTC
BEGIN:STANDARD
TZOFFSETFROM:+0000
TZOFFSETTO:+0000
TZNAME:UTC
DTSTART:20230101T000000
END:STANDARD
END:VTIMEZONE
BEGIN:VEVENT
DTSTART;TZID=UTC:20240427T083000
DTEND;TZID=UTC:20240427T170000
DTSTAMP:20260425T130031
CREATED:20240303T200208Z
LAST-MODIFIED:20240303T200208Z
UID:458-1714206600-1714237200@southportboatingclub.com
SUMMARY:Partner in Command Seminar
DESCRIPTION:Are you a passenger or crew member who would like to better understand the operation of a boat? Learn the essential skills needed to assist the skipper in safely operation a recreational boat and responding to emergency situations. This seminar includes:  Introduction to boating\, Marine communications\, Docking\, On board emergencies.  The cost of this 3 hour seminar will be $35 ($25 for Americas Boating Club members).The seminar will be held at the Southport Regional Jetport\, 4015 Airport Rd. (2nd floor) Southport\, NC. Registration will start at 8:30 AM with the seminar starting at 9:00 AM. Reservations will be necessary. Contact Max Sykes at hmsykes@atmc.net .
URL:https://southportboatingclub.com/event/partner-in-command-seminar/
LOCATION:Cape Fear Jetport\, 4015 Airport Rd\, Southport\, NC\, 28461\, United States
END:VEVENT
END:VCALENDAR