BEGIN:VCALENDAR
VERSION:2.0
PRODID:-//Americas Boating Club of Southport - ECPv6.15.20//NONSGML v1.0//EN
CALSCALE:GREGORIAN
METHOD:PUBLISH
X-WR-CALNAME:Americas Boating Club of Southport
X-ORIGINAL-URL:https://southportboatingclub.com
X-WR-CALDESC:Events for Americas Boating Club of Southport
REFRESH-INTERVAL;VALUE=DURATION:PT1H
X-Robots-Tag:noindex
X-PUBLISHED-TTL:PT1H
BEGIN:VTIMEZONE
TZID:UTC
BEGIN:STANDARD
TZOFFSETFROM:+0000
TZOFFSETTO:+0000
TZNAME:UTC
DTSTART:20220101T000000
END:STANDARD
END:VTIMEZONE
BEGIN:VEVENT
DTSTART;VALUE=DATE:20231209
DTEND;VALUE=DATE:20231210
DTSTAMP:20260425T200530
CREATED:20231003T202517Z
LAST-MODIFIED:20231003T202517Z
UID:450-1702080000-1702166399@southportboatingclub.com
SUMMARY:Southport Christmas Flotilla
DESCRIPTION:
URL:https://southportboatingclub.com/event/southport-christmas-flotilla/
LOCATION:NC
END:VEVENT
END:VCALENDAR